BEGIN:VCALENDAR
VERSION:2.0
PRODID:-//Pennsylvania Association of School Retirees - ECPv6.15.20//NONSGML v1.0//EN
CALSCALE:GREGORIAN
METHOD:PUBLISH
X-WR-CALNAME:Pennsylvania Association of School Retirees
X-ORIGINAL-URL:https://www.pasr.org
X-WR-CALDESC:Events for Pennsylvania Association of School Retirees
REFRESH-INTERVAL;VALUE=DURATION:PT1H
X-Robots-Tag:noindex
X-PUBLISHED-TTL:PT1H
BEGIN:VTIMEZONE
TZID:America/New_York
BEGIN:DAYLIGHT
TZOFFSETFROM:-0500
TZOFFSETTO:-0400
TZNAME:EDT
DTSTART:20250309T070000
END:DAYLIGHT
BEGIN:STANDARD
TZOFFSETFROM:-0400
TZOFFSETTO:-0500
TZNAME:EST
DTSTART:20251102T060000
END:STANDARD
BEGIN:DAYLIGHT
TZOFFSETFROM:-0500
TZOFFSETTO:-0400
TZNAME:EDT
DTSTART:20260308T070000
END:DAYLIGHT
BEGIN:STANDARD
TZOFFSETFROM:-0400
TZOFFSETTO:-0500
TZNAME:EST
DTSTART:20261101T060000
END:STANDARD
BEGIN:DAYLIGHT
TZOFFSETFROM:-0500
TZOFFSETTO:-0400
TZNAME:EDT
DTSTART:20270314T070000
END:DAYLIGHT
BEGIN:STANDARD
TZOFFSETFROM:-0400
TZOFFSETTO:-0500
TZNAME:EST
DTSTART:20271107T060000
END:STANDARD
END:VTIMEZONE
BEGIN:VEVENT
DTSTART;VALUE=DATE:20260514
DTEND;VALUE=DATE:20260516
DTSTAMP:20260419T105226
CREATED:20251210T181209Z
LAST-MODIFIED:20251210T181209Z
UID:18093-1778734800-1778821199@www.pasr.org
SUMMARY:Westmoreland Chapter: Spring Luncheon at Giannilli's ll
DESCRIPTION:
URL:https://www.pasr.org/calendar/westmoreland-chapter-spring-luncheon-at-giannillis-ll/
CATEGORIES:Westmoreland Chapter
ORGANIZER;CN="Ellen Piper":MAILTO:ecfpiper@gmail.com
END:VEVENT
BEGIN:VEVENT
DTSTART;TZID=America/New_York:20260810T090000
DTEND;TZID=America/New_York:20260810T090000
DTSTAMP:20260419T105226
CREATED:20251210T180654Z
LAST-MODIFIED:20251210T180654Z
UID:18089-1786352400-1786352400@www.pasr.org
SUMMARY:Westmoreland Chapter: Meeting at Panera Greengate Centre
DESCRIPTION:
URL:https://www.pasr.org/calendar/westmoreland-chapter-meeting-at-panera-greengate-centre-2/
CATEGORIES:Westmoreland Chapter
ORGANIZER;CN="Ellen Piper":MAILTO:ecfpiper@gmail.com
END:VEVENT
BEGIN:VEVENT
DTSTART;VALUE=DATE:20260915
DTEND;VALUE=DATE:20260917
DTSTAMP:20260419T105226
CREATED:20251210T181349Z
LAST-MODIFIED:20251210T181349Z
UID:18095-1789448400-1789534799@www.pasr.org
SUMMARY:Westmoreland Chapter: Not Going Back to School Picnic
DESCRIPTION:Maplewood Presbyterian Church
URL:https://www.pasr.org/calendar/westmoreland-chapter-not-going-back-to-school-picnic/
CATEGORIES:Westmoreland Chapter
ORGANIZER;CN="Ellen Piper":MAILTO:ecfpiper@gmail.com
END:VEVENT
BEGIN:VEVENT
DTSTART;TZID=America/New_York:20261207T090000
DTEND;TZID=America/New_York:20261207T090000
DTSTAMP:20260419T105226
CREATED:20251210T180912Z
LAST-MODIFIED:20251210T180912Z
UID:18091-1796634000-1796634000@www.pasr.org
SUMMARY:Westmoreland Chapter: Meeting at Panera Greengate Centre
DESCRIPTION:With gift bag pickup at 10:00 am.
URL:https://www.pasr.org/calendar/westmoreland-chapter-meeting-at-panera-greengate-centre-3/
CATEGORIES:Westmoreland Chapter
ORGANIZER;CN="Ellen Piper":MAILTO:ecfpiper@gmail.com
END:VEVENT
END:VCALENDAR