BEGIN:VCALENDAR
VERSION:2.0
PRODID:-//Pennsylvania Association of School Retirees - ECPv6.15.20//NONSGML v1.0//EN
CALSCALE:GREGORIAN
METHOD:PUBLISH
X-ORIGINAL-URL:https://www.pasr.org
X-WR-CALDESC:Events for Pennsylvania Association of School Retirees
REFRESH-INTERVAL;VALUE=DURATION:PT1H
X-Robots-Tag:noindex
X-PUBLISHED-TTL:PT1H
BEGIN:VTIMEZONE
TZID:America/New_York
BEGIN:DAYLIGHT
TZOFFSETFROM:-0500
TZOFFSETTO:-0400
TZNAME:EDT
DTSTART:20240310T070000
END:DAYLIGHT
BEGIN:STANDARD
TZOFFSETFROM:-0400
TZOFFSETTO:-0500
TZNAME:EST
DTSTART:20241103T060000
END:STANDARD
BEGIN:DAYLIGHT
TZOFFSETFROM:-0500
TZOFFSETTO:-0400
TZNAME:EDT
DTSTART:20250309T070000
END:DAYLIGHT
BEGIN:STANDARD
TZOFFSETFROM:-0400
TZOFFSETTO:-0500
TZNAME:EST
DTSTART:20251102T060000
END:STANDARD
BEGIN:DAYLIGHT
TZOFFSETFROM:-0500
TZOFFSETTO:-0400
TZNAME:EDT
DTSTART:20260308T070000
END:DAYLIGHT
BEGIN:STANDARD
TZOFFSETFROM:-0400
TZOFFSETTO:-0500
TZNAME:EST
DTSTART:20261101T060000
END:STANDARD
END:VTIMEZONE
BEGIN:VEVENT
DTSTART;TZID=America/New_York:20250804T090000
DTEND;TZID=America/New_York:20250804T103000
DTSTAMP:20260419T223528
CREATED:20241017T154053Z
LAST-MODIFIED:20241017T154053Z
UID:16128-1754298000-1754303400@www.pasr.org
SUMMARY:Westmoreland Chapter: Board Meeting - All members welcome
DESCRIPTION:Location: Panera in Greengate Centre
URL:https://www.pasr.org/calendar/westmoreland-chapter-board-meeting-all-members-welcome-2/
CATEGORIES:Westmoreland Chapter
ORGANIZER;CN="Rosanne Sandolfini":MAILTO:jrsandolfini@gmail.com
END:VEVENT
END:VCALENDAR