BEGIN:VCALENDAR
VERSION:2.0
PRODID:-//Pennsylvania Association of School Retirees - ECPv6.15.20//NONSGML v1.0//EN
CALSCALE:GREGORIAN
METHOD:PUBLISH
X-WR-CALNAME:Pennsylvania Association of School Retirees
X-ORIGINAL-URL:https://www.pasr.org
X-WR-CALDESC:Events for Pennsylvania Association of School Retirees
REFRESH-INTERVAL;VALUE=DURATION:PT1H
X-Robots-Tag:noindex
X-PUBLISHED-TTL:PT1H
BEGIN:VTIMEZONE
TZID:America/New_York
BEGIN:DAYLIGHT
TZOFFSETFROM:-0500
TZOFFSETTO:-0400
TZNAME:EDT
DTSTART:20240310T070000
END:DAYLIGHT
BEGIN:STANDARD
TZOFFSETFROM:-0400
TZOFFSETTO:-0500
TZNAME:EST
DTSTART:20241103T060000
END:STANDARD
BEGIN:DAYLIGHT
TZOFFSETFROM:-0500
TZOFFSETTO:-0400
TZNAME:EDT
DTSTART:20250309T070000
END:DAYLIGHT
BEGIN:STANDARD
TZOFFSETFROM:-0400
TZOFFSETTO:-0500
TZNAME:EST
DTSTART:20251102T060000
END:STANDARD
BEGIN:DAYLIGHT
TZOFFSETFROM:-0500
TZOFFSETTO:-0400
TZNAME:EDT
DTSTART:20260308T070000
END:DAYLIGHT
BEGIN:STANDARD
TZOFFSETFROM:-0400
TZOFFSETTO:-0500
TZNAME:EST
DTSTART:20261101T060000
END:STANDARD
BEGIN:DAYLIGHT
TZOFFSETFROM:-0500
TZOFFSETTO:-0400
TZNAME:EDT
DTSTART:20270314T070000
END:DAYLIGHT
BEGIN:STANDARD
TZOFFSETFROM:-0400
TZOFFSETTO:-0500
TZNAME:EST
DTSTART:20271107T060000
END:STANDARD
END:VTIMEZONE
BEGIN:VEVENT
DTSTART;VALUE=DATE:20251204
DTEND;VALUE=DATE:20251206
DTSTAMP:20260421T161015
CREATED:20241003T140623Z
LAST-MODIFIED:20241003T140623Z
UID:15987-1764824400-1764910799@www.pasr.org
SUMMARY:Adams Chapter: Christmas Luncheon
DESCRIPTION:Location: Inn 94
URL:https://www.pasr.org/calendar/adams-chapter-christmas-luncheon-2/
CATEGORIES:Adams County Chapter
ORGANIZER;CN="Diane Motter":MAILTO:paris3@comcast.net
END:VEVENT
BEGIN:VEVENT
DTSTART;VALUE=DATE:20251204
DTEND;VALUE=DATE:20251206
DTSTAMP:20260421T161015
CREATED:20250318T124715Z
LAST-MODIFIED:20250318T124715Z
UID:16959-1764824400-1764910799@www.pasr.org
SUMMARY:Lebanon Chapter: General Membership Meeting
DESCRIPTION:
URL:https://www.pasr.org/calendar/lebanon-chapter-general-membership-meeting-7/
CATEGORIES:Lebanon County
ORGANIZER;CN="Cathy Wieland":MAILTO:cathywsix@gmail.com
END:VEVENT
BEGIN:VEVENT
DTSTART;VALUE=DATE:20251209
DTEND;VALUE=DATE:20251211
DTSTAMP:20260421T161015
CREATED:20241011T143138Z
LAST-MODIFIED:20241011T143138Z
UID:16076-1765256400-1765342799@www.pasr.org
SUMMARY:Cumberland Chapter: Newsletter Folding
DESCRIPTION:Board members only
URL:https://www.pasr.org/calendar/cumberland-chapter-newsletter-folding-3/
CATEGORIES:Cumberland County
END:VEVENT
BEGIN:VEVENT
DTSTART;VALUE=DATE:20251211
DTEND;VALUE=DATE:20251213
DTSTAMP:20260421T161015
CREATED:20250110T170001Z
LAST-MODIFIED:20250110T170001Z
UID:16560-1765429200-1765515599@www.pasr.org
SUMMARY:Juniata Chapter: Christmas Brunch- Carol sing
DESCRIPTION:
URL:https://www.pasr.org/calendar/juniata-chapter-christmas-brunch-carol-sing/
LOCATION:Messiah Lutheran Church
CATEGORIES:Juniata County
ORGANIZER;CN="Samuel Leister":MAILTO:sleister@gmail.com
END:VEVENT
BEGIN:VEVENT
DTSTART;VALUE=DATE:20251230
DTEND;VALUE=DATE:20260104
DTSTAMP:20260421T161015
CREATED:20241011T141714Z
LAST-MODIFIED:20241011T141714Z
UID:16058-1767070800-1767416399@www.pasr.org
SUMMARY:RECREO: Cumberland Chapter: New Year’s Extravaganza at Myrtle Beach\, SC
DESCRIPTION:
URL:https://www.pasr.org/calendar/recreo-cumberland-chapter-new-years-extravaganza-at-myrtle-beach-sc/
CATEGORIES:Cumberland County,Recreation (RECREO)
ORGANIZER;CN="Richard Frederick":MAILTO:CCCRecreo@yahoo.com
END:VEVENT
BEGIN:VEVENT
DTSTART;VALUE=DATE:20260127
DTEND;VALUE=DATE:20260129
DTSTAMP:20260421T161015
CREATED:20260113T181339Z
LAST-MODIFIED:20260113T181339Z
UID:18180-1769490000-1769576399@www.pasr.org
SUMMARY:Adams Chapter: Executive Board Meeting
DESCRIPTION:
URL:https://www.pasr.org/calendar/adams-chapter-executive-board-meeting/
CATEGORIES:Adams County Chapter
ORGANIZER;CN="Sharen Miller":MAILTO:sharenm234@gmail.com
END:VEVENT
BEGIN:VEVENT
DTSTART;VALUE=DATE:20260209
DTEND;VALUE=DATE:20260211
DTSTAMP:20260421T161015
CREATED:20251216T153157Z
LAST-MODIFIED:20251216T153157Z
UID:18109-1770613200-1770699599@www.pasr.org
SUMMARY:Franklin Chapter: Brunch/Book/Puzzle Sale Ritchey Boys
DESCRIPTION:Solomon’s
URL:https://www.pasr.org/calendar/franklin-chapter-brunch-book-puzzle-sale-ritchey-boys/
CATEGORIES:Franklin County
ORGANIZER;CN="Janet Zeger":MAILTO:jdzeger1@gmail.com
END:VEVENT
BEGIN:VEVENT
DTSTART;VALUE=DATE:20260216
DTEND;VALUE=DATE:20260218
DTSTAMP:20260421T161015
CREATED:20251216T153250Z
LAST-MODIFIED:20251216T153250Z
UID:18111-1771218000-1771304399@www.pasr.org
SUMMARY:Franklin Chapter: Brunch Snow Date
DESCRIPTION:
URL:https://www.pasr.org/calendar/franklin-chapter-brunch-snow-date/
CATEGORIES:Franklin County
ORGANIZER;CN="Janet Zeger":MAILTO:jdzeger1@gmail.com
END:VEVENT
BEGIN:VEVENT
DTSTART;VALUE=DATE:20260302
DTEND;VALUE=DATE:20260304
DTSTAMP:20260421T161015
CREATED:20260226T153139Z
LAST-MODIFIED:20260226T153139Z
UID:18446-1772427600-1772513999@www.pasr.org
SUMMARY:Lancaster Chapter: Board Meeting
DESCRIPTION:
URL:https://www.pasr.org/calendar/lancaster-chapter-board-meeting/
CATEGORIES:Lancaster County Chapter
ORGANIZER;CN="Jean Young":MAILTO:jeanlyoung@aol.com
END:VEVENT
BEGIN:VEVENT
DTSTART;VALUE=DATE:20260305
DTEND;VALUE=DATE:20260307
DTSTAMP:20260421T161015
CREATED:20251107T150734Z
LAST-MODIFIED:20251107T151440Z
UID:17872-1772686800-1772773199@www.pasr.org
SUMMARY:RECREO: York Chapter: Philadelphia Flower Show w/ Moshulu
DESCRIPTION:
URL:https://www.pasr.org/calendar/recreo-york-chapter-philadelphia-flower-show-w-moshulu/
CATEGORIES:Recreation (RECREO),York County Chapter
ORGANIZER;CN="Joy Shoffner":MAILTO:ycpasrjoy@gmail.com
END:VEVENT
BEGIN:VEVENT
DTSTART;VALUE=DATE:20260309
DTEND;VALUE=DATE:20260311
DTSTAMP:20260421T161015
CREATED:20250519T144624Z
LAST-MODIFIED:20250519T144717Z
UID:17181-1773032400-1773118799@www.pasr.org
SUMMARY:York Chapter: Membership Meeting
DESCRIPTION:
URL:https://www.pasr.org/calendar/york-chapter-membership-meeting-3/
CATEGORIES:York County Chapter
ORGANIZER;CN="Barbara Snare":MAILTO:bsnare56@gmail.com
END:VEVENT
BEGIN:VEVENT
DTSTART;VALUE=DATE:20260311
DTEND;VALUE=DATE:20260313
DTSTAMP:20260421T161015
CREATED:20251216T153347Z
LAST-MODIFIED:20251216T153347Z
UID:18113-1773205200-1773291599@www.pasr.org
SUMMARY:Franklin Chapter: Executive Board
DESCRIPTION:Trinity Lutheran
URL:https://www.pasr.org/calendar/franklin-chapter-executive-board/
CATEGORIES:Franklin County
ORGANIZER;CN="Janet Zeger":MAILTO:jdzeger1@gmail.com
END:VEVENT
BEGIN:VEVENT
DTSTART;VALUE=DATE:20260318
DTEND;VALUE=DATE:20260320
DTSTAMP:20260421T161015
CREATED:20250908T191404Z
LAST-MODIFIED:20260105T193445Z
UID:17564-1773810000-1773896399@www.pasr.org
SUMMARY:RECREO: Cumberland Chapter: "Death Becomes Her" on Broadway\, NYC
DESCRIPTION:
URL:https://www.pasr.org/calendar/recreo-death-becomes-her-on-broadway-nyc/
CATEGORIES:Cumberland County,Recreation (RECREO)
ORGANIZER;CN="Richard Frederick":MAILTO:CCCRecreo@yahoo.com
END:VEVENT
BEGIN:VEVENT
DTSTART;TZID=America/New_York:20260319T113000
DTEND;TZID=America/New_York:20260319T113000
DTSTAMP:20260421T161015
CREATED:20260304T194521Z
LAST-MODIFIED:20260304T194521Z
UID:18489-1773919800-1773919800@www.pasr.org
SUMMARY:Juniata Chapter: Spring Lunch
DESCRIPTION:
URL:https://www.pasr.org/calendar/juniata-chapter-spring-lunch/
LOCATION:Messiah Lutheran Church
CATEGORIES:Juniata County
ORGANIZER;CN="Samuel Leister":MAILTO:sleister@gmail.com
END:VEVENT
BEGIN:VEVENT
DTSTART;VALUE=DATE:20260320
DTEND;VALUE=DATE:20260322
DTSTAMP:20260421T161015
CREATED:20260226T153325Z
LAST-MODIFIED:20260226T153325Z
UID:18457-1773982800-1774069199@www.pasr.org
SUMMARY:Lancaster Chapter: Membership Luncheon
DESCRIPTION:
URL:https://www.pasr.org/calendar/lancaster-chapter-membership-luncheon/
CATEGORIES:Lancaster County Chapter
ORGANIZER;CN="Jean Young":MAILTO:jeanlyoung@aol.com
END:VEVENT
BEGIN:VEVENT
DTSTART;TZID=America/New_York:20260324T100000
DTEND;TZID=America/New_York:20260324T100000
DTSTAMP:20260421T161015
CREATED:20260304T200158Z
LAST-MODIFIED:20260304T200158Z
UID:18501-1774346400-1774346400@www.pasr.org
SUMMARY:Lebanon Chapter: Chapter Meeting
DESCRIPTION:
URL:https://www.pasr.org/calendar/lebanon-chapter-chapter-meeting/
CATEGORIES:Lebanon County
ORGANIZER;CN="Cathy Wieland":MAILTO:cathywsix@gmail.com
END:VEVENT
BEGIN:VEVENT
DTSTART;VALUE=DATE:20260326
DTEND;VALUE=DATE:20260328
DTSTAMP:20260421T161015
CREATED:20260113T181711Z
LAST-MODIFIED:20260113T181711Z
UID:18192-1774501200-1774587599@www.pasr.org
SUMMARY:Adams Chapter: Membership Meeting
DESCRIPTION:
URL:https://www.pasr.org/calendar/adams-chapter-membership-meeting/
LOCATION:Harbaugh Thomas Library\, Biglerville
CATEGORIES:Adams County Chapter
ORGANIZER;CN="Sharen Miller":MAILTO:sharenm234@gmail.com
END:VEVENT
BEGIN:VEVENT
DTSTART;VALUE=DATE:20260326
DTEND;VALUE=DATE:20260328
DTSTAMP:20260421T161015
CREATED:20260226T151637Z
LAST-MODIFIED:20260226T152727Z
UID:18438-1774501200-1774587599@www.pasr.org
SUMMARY:Region 4: Spring Board Meeting
DESCRIPTION:
URL:https://www.pasr.org/calendar/region-4-spring-board-meeting/
CATEGORIES:Region 4 - Southern
ORGANIZER;CN="Jean Young":MAILTO:jeanlyoung@aol.com
END:VEVENT
BEGIN:VEVENT
DTSTART;VALUE=DATE:20260415
DTEND;VALUE=DATE:20260419
DTSTAMP:20260421T161015
CREATED:20251107T151023Z
LAST-MODIFIED:20251107T151023Z
UID:17874-1776229200-1776488399@www.pasr.org
SUMMARY:RECREO: York Chapter: 250th Revolutionary Celebration
DESCRIPTION:With VA International Tattoo
URL:https://www.pasr.org/calendar/recreo-york-chapter-250th-revolutionary-celebration/
CATEGORIES:Recreation (RECREO),York County Chapter
ORGANIZER;CN="Joy Shoffner":MAILTO:ycpasrjoy@gmail.com
END:VEVENT
BEGIN:VEVENT
DTSTART;VALUE=DATE:20260416
DTEND;VALUE=DATE:20260418
DTSTAMP:20260421T161015
CREATED:20260104T125106Z
LAST-MODIFIED:20260104T125106Z
UID:18137-1776315600-1776401999@www.pasr.org
SUMMARY:RECREO: Lebanon Chapter: Mystery Trip
DESCRIPTION:
URL:https://www.pasr.org/calendar/recreo-lebanon-chapter-mystery-trip/
CATEGORIES:Recreation (RECREO),Lebanon County
ORGANIZER;CN="D. Lorraine Royer":MAILTO:ronlorroy@verizon.net
END:VEVENT
BEGIN:VEVENT
DTSTART;TZID=America/New_York:20260418T090000
DTEND;TZID=America/New_York:20260418T090000
DTSTAMP:20260421T161015
CREATED:20260223T161226Z
LAST-MODIFIED:20260223T161913Z
UID:18422-1776502800-1776502800@www.pasr.org
SUMMARY:York and Adams Chapters: Retirement Fair
DESCRIPTION:
URL:https://www.pasr.org/calendar/york-and-adams-chapters-retirement-fair/
LOCATION:Baresville Elementary School\, Hanover\, Pa
CATEGORIES:Adams County Chapter,York County Chapter
ORGANIZER;CN="Christine Blevins":MAILTO:christineblevins@ymail.com
END:VEVENT
BEGIN:VEVENT
DTSTART;VALUE=DATE:20260421
DTEND;VALUE=DATE:20260423
DTSTAMP:20260421T161015
CREATED:20260113T181429Z
LAST-MODIFIED:20260113T181429Z
UID:18186-1776747600-1776833999@www.pasr.org
SUMMARY:Adams Chapter: Executive Board Meeting
DESCRIPTION:
URL:https://www.pasr.org/calendar/adams-chapter-executive-board-meeting-2/
CATEGORIES:Adams County Chapter
ORGANIZER;CN="Sharen Miller":MAILTO:sharenm234@gmail.com
END:VEVENT
BEGIN:VEVENT
DTSTART;VALUE=DATE:20260423
DTEND;VALUE=DATE:20260425
DTSTAMP:20260421T161015
CREATED:20251216T153527Z
LAST-MODIFIED:20251216T153527Z
UID:18115-1776920400-1777006799@www.pasr.org
SUMMARY:Franklin Chapter: Meeting Waynesboro HS Musical Group
DESCRIPTION:Solomon’s
URL:https://www.pasr.org/calendar/franklin-chapter-meeting-waynesboro-hs-musical-group/
CATEGORIES:Franklin County
ORGANIZER;CN="Janet Zeger":MAILTO:jdzeger1@gmail.com
END:VEVENT
BEGIN:VEVENT
DTSTART;VALUE=DATE:20260423
DTEND;VALUE=DATE:20260504
DTSTAMP:20260421T161015
CREATED:20251107T151713Z
LAST-MODIFIED:20251107T151713Z
UID:17876-1776920400-1777784399@www.pasr.org
SUMMARY:RECREO: York Chapter: Collette’s Shades of Ireland
DESCRIPTION:
URL:https://www.pasr.org/calendar/recreo-york-chapter-collettes-shades-of-ireland/
CATEGORIES:Recreation (RECREO),York County Chapter
ORGANIZER;CN="Joy Shoffner":MAILTO:ycpasrjoy@gmail.com
END:VEVENT
BEGIN:VEVENT
DTSTART;TZID=America/New_York:20260423T083000
DTEND;TZID=America/New_York:20260423T083000
DTSTAMP:20260421T161015
CREATED:20260304T194650Z
LAST-MODIFIED:20260304T194650Z
UID:18491-1776933000-1776933000@www.pasr.org
SUMMARY:Juniata Chapter: Executive Board Meeting and Breakfast
DESCRIPTION:
URL:https://www.pasr.org/calendar/juniata-chapter-executive-board-meeting-and-breakfast/
LOCATION:Messiah Lutheran Church
CATEGORIES:Juniata County
ORGANIZER;CN="Samuel Leister":MAILTO:sleister@gmail.com
END:VEVENT
BEGIN:VEVENT
DTSTART;VALUE=DATE:20260426
DTEND;VALUE=DATE:20260428
DTSTAMP:20260421T161015
CREATED:20260226T153417Z
LAST-MODIFIED:20260226T153417Z
UID:18459-1777179600-1777265999@www.pasr.org
SUMMARY:Lancaster Chapter: Trivia Scholarship Fundraiser
DESCRIPTION:
URL:https://www.pasr.org/calendar/lancaster-chapter-trivia-scholarship-fundraiser/
CATEGORIES:Lancaster County Chapter
ORGANIZER;CN="Jean Young":MAILTO:jeanlyoung@aol.com
END:VEVENT
BEGIN:VEVENT
DTSTART;VALUE=DATE:20260430
DTEND;VALUE=DATE:20260502
DTSTAMP:20260421T161015
CREATED:20260113T181934Z
LAST-MODIFIED:20260226T152738Z
UID:18201-1777525200-1777611599@www.pasr.org
SUMMARY:Region 4: Spring Membership Meeting
DESCRIPTION:
URL:https://www.pasr.org/calendar/adams-chapter-region-4-meeting/
CATEGORIES:Region 4 - Southern
ORGANIZER;CN="Jean Young":MAILTO:jeanlyoung@aol.com
END:VEVENT
BEGIN:VEVENT
DTSTART;VALUE=DATE:20260430
DTEND;VALUE=DATE:20260502
DTSTAMP:20260421T161015
CREATED:20251216T153645Z
LAST-MODIFIED:20251216T153645Z
UID:18117-1777525200-1777611599@www.pasr.org
SUMMARY:Franklin Chapter: Executive Board
DESCRIPTION:Trinity Lutheran
URL:https://www.pasr.org/calendar/franklin-chapter-executive-board-2/
CATEGORIES:Franklin County
ORGANIZER;CN="Janet Zeger":MAILTO:jdzeger1@gmail.com
END:VEVENT
BEGIN:VEVENT
DTSTART;VALUE=DATE:20260504
DTEND;VALUE=DATE:20260506
DTSTAMP:20260421T161015
CREATED:20260226T153159Z
LAST-MODIFIED:20260226T153159Z
UID:18447-1777870800-1777957199@www.pasr.org
SUMMARY:Lancaster Chapter: Board Meeting
DESCRIPTION:
URL:https://www.pasr.org/calendar/lancaster-chapter-board-meeting-2/
CATEGORIES:Lancaster County Chapter
ORGANIZER;CN="Jean Young":MAILTO:jeanlyoung@aol.com
END:VEVENT
BEGIN:VEVENT
DTSTART;VALUE=DATE:20260505
DTEND;VALUE=DATE:20260507
DTSTAMP:20260421T161015
CREATED:20251107T151839Z
LAST-MODIFIED:20251107T151839Z
UID:17878-1777957200-1778043599@www.pasr.org
SUMMARY:RECREO: York Chapter: Joshua at Sight and Sound
DESCRIPTION:
URL:https://www.pasr.org/calendar/recreo-york-chapter-joshua-at-sight-and-sound/
CATEGORIES:Recreation (RECREO),York County Chapter
ORGANIZER;CN="Joy Shoffner":MAILTO:ycpasrjoy@gmail.com
END:VEVENT
END:VCALENDAR