BEGIN:VCALENDAR
VERSION:2.0
PRODID:-//Pennsylvania Association of School Retirees - ECPv6.15.20//NONSGML v1.0//EN
CALSCALE:GREGORIAN
METHOD:PUBLISH
X-WR-CALNAME:Pennsylvania Association of School Retirees
X-ORIGINAL-URL:https://www.pasr.org
X-WR-CALDESC:Events for Pennsylvania Association of School Retirees
REFRESH-INTERVAL;VALUE=DURATION:PT1H
X-Robots-Tag:noindex
X-PUBLISHED-TTL:PT1H
BEGIN:VTIMEZONE
TZID:America/New_York
BEGIN:DAYLIGHT
TZOFFSETFROM:-0500
TZOFFSETTO:-0400
TZNAME:EDT
DTSTART:20240310T070000
END:DAYLIGHT
BEGIN:STANDARD
TZOFFSETFROM:-0400
TZOFFSETTO:-0500
TZNAME:EST
DTSTART:20241103T060000
END:STANDARD
BEGIN:DAYLIGHT
TZOFFSETFROM:-0500
TZOFFSETTO:-0400
TZNAME:EDT
DTSTART:20250309T070000
END:DAYLIGHT
BEGIN:STANDARD
TZOFFSETFROM:-0400
TZOFFSETTO:-0500
TZNAME:EST
DTSTART:20251102T060000
END:STANDARD
BEGIN:DAYLIGHT
TZOFFSETFROM:-0500
TZOFFSETTO:-0400
TZNAME:EDT
DTSTART:20260308T070000
END:DAYLIGHT
BEGIN:STANDARD
TZOFFSETFROM:-0400
TZOFFSETTO:-0500
TZNAME:EST
DTSTART:20261101T060000
END:STANDARD
BEGIN:DAYLIGHT
TZOFFSETFROM:-0500
TZOFFSETTO:-0400
TZNAME:EDT
DTSTART:20270314T070000
END:DAYLIGHT
BEGIN:STANDARD
TZOFFSETFROM:-0400
TZOFFSETTO:-0500
TZNAME:EST
DTSTART:20271107T060000
END:STANDARD
END:VTIMEZONE
BEGIN:VEVENT
DTSTART;VALUE=DATE:20250816
DTEND;VALUE=DATE:20250818
DTSTAMP:20260421T124347
CREATED:20241003T140546Z
LAST-MODIFIED:20241003T140546Z
UID:15986-1755320400-1755406799@www.pasr.org
SUMMARY:RECREO: Adams Chapter: Totem Pole Matinee Play "Beautiful"
DESCRIPTION:
URL:https://www.pasr.org/calendar/recreo-adams-chapter-totem-pole-matinee-play-beautiful/
CATEGORIES:Adams County Chapter,Recreation (RECREO)
ORGANIZER;CN="Diane Motter":MAILTO:paris3@comcast.net
END:VEVENT
BEGIN:VEVENT
DTSTART;VALUE=DATE:20250819
DTEND;VALUE=DATE:20250821
DTSTAMP:20260421T124347
CREATED:20250318T124822Z
LAST-MODIFIED:20250318T124822Z
UID:16961-1755579600-1755665999@www.pasr.org
SUMMARY:Lebanon Chapter: Executive Committee Meeting
DESCRIPTION:
URL:https://www.pasr.org/calendar/lebanon-chapter-executive-committee-meeting-6/
CATEGORIES:Lebanon County
ORGANIZER;CN="Cathy Wieland":MAILTO:cathywsix@gmail.com
END:VEVENT
BEGIN:VEVENT
DTSTART;VALUE=DATE:20250821
DTEND;VALUE=DATE:20250823
DTSTAMP:20260421T124347
CREATED:20250310T143322Z
LAST-MODIFIED:20250310T143322Z
UID:16907-1755752400-1755838799@www.pasr.org
SUMMARY:RECREO: York Chapter: Mystery Trip
DESCRIPTION:
URL:https://www.pasr.org/calendar/recreo-york-chapter-mystery-trip-2/
CATEGORIES:Recreation (RECREO),York County Chapter
ORGANIZER;CN="Joy Shoffner":MAILTO:ycpasrjoy@gmail.com
END:VEVENT
BEGIN:VEVENT
DTSTART;TZID=America/New_York:20250821T083000
DTEND;TZID=America/New_York:20250821T083000
DTSTAMP:20260421T124347
CREATED:20250110T164901Z
LAST-MODIFIED:20250110T165014Z
UID:16549-1755765000-1755765000@www.pasr.org
SUMMARY:Juniata Chapter: Executive Board Meeting and Breakfast
DESCRIPTION:
URL:https://www.pasr.org/calendar/juniata-chapter-executive-board-meeting-and-breakfast-3/
LOCATION:Messiah Lutheran Church
CATEGORIES:Juniata County
ORGANIZER;CN="Samuel Leister":MAILTO:sleister@gmail.com
END:VEVENT
BEGIN:VEVENT
DTSTART;VALUE=DATE:20250908
DTEND;VALUE=DATE:20250910
DTSTAMP:20260421T124347
CREATED:20241003T140301Z
LAST-MODIFIED:20241003T140301Z
UID:15978-1757307600-1757393999@www.pasr.org
SUMMARY:Adams Chapter: AC/PASR Executive Board Meeting
DESCRIPTION:
URL:https://www.pasr.org/calendar/adams-chapter-ac-pasr-executive-board-meeting-5/
CATEGORIES:Adams County Chapter
ORGANIZER;CN="Diane Motter":MAILTO:paris3@comcast.net
END:VEVENT
BEGIN:VEVENT
DTSTART;VALUE=DATE:20250909
DTEND;VALUE=DATE:20250911
DTSTAMP:20260421T124347
CREATED:20241011T143115Z
LAST-MODIFIED:20250814T171406Z
UID:16075-1757394000-1757480399@www.pasr.org
SUMMARY:Cumberland Chapter: Newsletter Folding
DESCRIPTION:Board members only
URL:https://www.pasr.org/calendar/cumberland-chapter-newsletter-folding-2/
CATEGORIES:Cumberland County
ORGANIZER;CN="Janet Zeger":MAILTO:jdzeger1@gmail.com
END:VEVENT
BEGIN:VEVENT
DTSTART;VALUE=DATE:20250910
DTEND;VALUE=DATE:20250912
DTSTAMP:20260421T124347
CREATED:20250109T162959Z
LAST-MODIFIED:20250109T162959Z
UID:16534-1757480400-1757566799@www.pasr.org
SUMMARY:Franklin Chapter: Executive Committee Meeting
DESCRIPTION:
URL:https://www.pasr.org/calendar/franklin-chapter-executive-committee-meeting-2/
LOCATION:Trinity Lutheran Church
CATEGORIES:Franklin County
ORGANIZER;CN="Janet Zeger":MAILTO:jdzeger1@gmail.com
END:VEVENT
BEGIN:VEVENT
DTSTART;VALUE=DATE:20250916
DTEND;VALUE=DATE:20250918
DTSTAMP:20260421T124347
CREATED:20250318T124655Z
LAST-MODIFIED:20250318T124655Z
UID:16958-1757998800-1758085199@www.pasr.org
SUMMARY:Lebanon Chapter: General Membership Meeting
DESCRIPTION:
URL:https://www.pasr.org/calendar/lebanon-chapter-general-membership-meeting-6/
CATEGORIES:Lebanon County
ORGANIZER;CN="Cathy Wieland":MAILTO:cathywsix@gmail.com
END:VEVENT
BEGIN:VEVENT
DTSTART;TZID=America/New_York:20250925T090000
DTEND;TZID=America/New_York:20250925T110000
DTSTAMP:20260421T124347
CREATED:20240926T194734Z
LAST-MODIFIED:20250814T155749Z
UID:15959-1758790800-1758798000@www.pasr.org
SUMMARY:Region 4 Meeting
DESCRIPTION:
URL:https://www.pasr.org/calendar/region-4-meeting-2/
CATEGORIES:Region 4 - Southern
ORGANIZER;CN="Janet Zeger":MAILTO:jdzeger1@gmail.com
END:VEVENT
BEGIN:VEVENT
DTSTART;VALUE=DATE:20250930
DTEND;VALUE=DATE:20251002
DTSTAMP:20260421T124347
CREATED:20250310T141004Z
LAST-MODIFIED:20250310T141012Z
UID:16904-1759208400-1759294799@www.pasr.org
SUMMARY:RECREO: York Chapter: Fall in Love with Jim Thorpe
DESCRIPTION:RSVP by July 24\, 2025 \nwww.ycpasr.org
URL:https://www.pasr.org/calendar/recreo-york-chapter-fall-in-love-with-jim-thorpe/
CATEGORIES:Recreation (RECREO),York County Chapter
ORGANIZER;CN="Joy Shoffner":MAILTO:ycpasrjoy@gmail.com
END:VEVENT
BEGIN:VEVENT
DTSTART;VALUE=DATE:20251006
DTEND;VALUE=DATE:20251012
DTSTAMP:20260421T124347
CREATED:20241011T140944Z
LAST-MODIFIED:20241011T140944Z
UID:16056-1759726800-1760158799@www.pasr.org
SUMMARY:RECREO: Cumberland Chapter: Rivers of Steel and More at Pittsburgh\, PA
DESCRIPTION:
URL:https://www.pasr.org/calendar/recreo-cumberland-chapter-rivers-of-steel-and-more-at-pittsburgh-pa/
CATEGORIES:Cumberland County,Recreation (RECREO)
ORGANIZER;CN="Richard Frederick":MAILTO:CCCRecreo@yahoo.com
END:VEVENT
BEGIN:VEVENT
DTSTART;VALUE=DATE:20251011
DTEND;VALUE=DATE:20251026
DTSTAMP:20260421T124347
CREATED:20241112T201644Z
LAST-MODIFIED:20250814T184008Z
UID:16273-1760158800-1761368399@www.pasr.org
SUMMARY:RECREO: York Chapter: Collette’s Sicily and Its Isles
DESCRIPTION:
URL:https://www.pasr.org/calendar/collettes-sicily-and-its-isles/
CATEGORIES:Recreation (RECREO),York County Chapter
ORGANIZER;CN="Joy Shoffner":MAILTO:ycpasrjoy@gmail.com
END:VEVENT
BEGIN:VEVENT
DTSTART;VALUE=DATE:20251013
DTEND;VALUE=DATE:20251020
DTSTAMP:20260421T124347
CREATED:20241031T192441Z
LAST-MODIFIED:20241031T192441Z
UID:16230-1760331600-1760849999@www.pasr.org
SUMMARY:RECREO: Lebanon Chapter: Mass. - Cranberry Harvest\, Plymouth Plantation\, Witch Trials & more
DESCRIPTION:
URL:https://www.pasr.org/calendar/recreo-lebanon-chapter-mass-cranberry-harvest-plymouth-plantation-witch-trials-more/
CATEGORIES:Recreation (RECREO),Lebanon County
ORGANIZER;CN="D. Lorraine Royer":MAILTO:ronlorroy@verizon.net
END:VEVENT
BEGIN:VEVENT
DTSTART;VALUE=DATE:20251015
DTEND;VALUE=DATE:20251017
DTSTAMP:20260421T124347
CREATED:20241003T141748Z
LAST-MODIFIED:20241003T141748Z
UID:15999-1760504400-1760590799@www.pasr.org
SUMMARY:Perry Chapter: Chapter Meeting
DESCRIPTION:
URL:https://www.pasr.org/calendar/perry-chapter-chapter-meeting/
CATEGORIES:Perry Chapter
ORGANIZER;CN="Ronald Hummel":MAILTO:rlhummel925@yahoo.com
END:VEVENT
BEGIN:VEVENT
DTSTART;VALUE=DATE:20251016
DTEND;VALUE=DATE:20251018
DTSTAMP:20260421T124347
CREATED:20250109T163056Z
LAST-MODIFIED:20250919T145437Z
UID:16536-1760590800-1760677199@www.pasr.org
SUMMARY:Franklin Chapter: Region 4 Meeting
DESCRIPTION:
URL:https://www.pasr.org/calendar/franklin-chapter-region-4-meeting-4/
CATEGORIES:Franklin County
ORGANIZER;CN="Janet Zeger":MAILTO:jdzeger1@gmail.com
END:VEVENT
BEGIN:VEVENT
DTSTART;VALUE=DATE:20251021
DTEND;VALUE=DATE:20251023
DTSTAMP:20260421T124347
CREATED:20241011T183724Z
LAST-MODIFIED:20250204T170707Z
UID:16080-1761022800-1761109199@www.pasr.org
SUMMARY:Cumberland Chapter: Fall Luncheon
DESCRIPTION:
URL:https://www.pasr.org/calendar/cumberland-chapter-fall-luncheon/
CATEGORIES:Cumberland County
ORGANIZER;CN="Richard Singiser":MAILTO:rsingiser13@gmail.com
END:VEVENT
BEGIN:VEVENT
DTSTART;VALUE=DATE:20251023
DTEND;VALUE=DATE:20251025
DTSTAMP:20260421T124347
CREATED:20250109T163207Z
LAST-MODIFIED:20250109T163207Z
UID:16538-1761195600-1761281999@www.pasr.org
SUMMARY:Franklin Chapter: Luncheon
DESCRIPTION:
URL:https://www.pasr.org/calendar/franklin-chapter-luncheon-2/
LOCATION:First UM Church\, Mercersburg\, PA
CATEGORIES:Franklin County
ORGANIZER;CN="Janet Zeger":MAILTO:jdzeger1@gmail.com
END:VEVENT
BEGIN:VEVENT
DTSTART;VALUE=DATE:20251027
DTEND;VALUE=DATE:20251112
DTSTAMP:20260421T124347
CREATED:20241204T150907Z
LAST-MODIFIED:20241204T150907Z
UID:16410-1761541200-1762837199@www.pasr.org
SUMMARY:RECREO: York Chapter: AMA Waterways River Cruise “Flavors of Portugal & Spain”
DESCRIPTION:Final Payment July 2\, 2026
URL:https://www.pasr.org/calendar/recreo-york-chapter-ama-waterways-river-cruise-flavors-of-portugal-spain/
CATEGORIES:Recreation (RECREO),York County Chapter
ORGANIZER;CN="Joy Shoffner":MAILTO:ycpasrjoy@gmail.com
END:VEVENT
BEGIN:VEVENT
DTSTART;VALUE=DATE:20251105
DTEND;VALUE=DATE:20251107
DTSTAMP:20260421T124347
CREATED:20241011T142957Z
LAST-MODIFIED:20241011T142957Z
UID:16066-1762318800-1762405199@www.pasr.org
SUMMARY:Cumberland Chapter: Executive Committee Meeting
DESCRIPTION:
URL:https://www.pasr.org/calendar/cumberland-chapter-executive-committee-meeting-3/
CATEGORIES:Cumberland County
END:VEVENT
BEGIN:VEVENT
DTSTART;VALUE=DATE:20251110
DTEND;VALUE=DATE:20251112
DTSTAMP:20260421T124347
CREATED:20241003T140324Z
LAST-MODIFIED:20241003T140324Z
UID:15977-1762750800-1762837199@www.pasr.org
SUMMARY:Adams Chapter: AC/PASR Executive Board Meeting
DESCRIPTION:
URL:https://www.pasr.org/calendar/adams-chapter-ac-pasr-executive-board-meeting-6/
CATEGORIES:Adams County Chapter
ORGANIZER;CN="Diane Motter":MAILTO:paris3@comcast.net
END:VEVENT
BEGIN:VEVENT
DTSTART;TZID=America/New_York:20251110T090000
DTEND;TZID=America/New_York:20251110T090000
DTSTAMP:20260421T124347
CREATED:20250519T144543Z
LAST-MODIFIED:20250519T144543Z
UID:17176-1762765200-1762765200@www.pasr.org
SUMMARY:York Chapter: Membership Meeting
DESCRIPTION:
URL:https://www.pasr.org/calendar/york-chapter-membership-meeting-2/
LOCATION:Wyndham Gardens\, York
CATEGORIES:York County Chapter
ORGANIZER;CN="Barbara Snare":MAILTO:bsnare56@gmail.com
END:VEVENT
BEGIN:VEVENT
DTSTART;TZID=America/New_York:20251111T080000
DTEND;TZID=America/New_York:20251111T170000
DTSTAMP:20260421T124347
CREATED:20250318T124837Z
LAST-MODIFIED:20250318T124837Z
UID:16966-1762848000-1762880400@www.pasr.org
SUMMARY:Lebanon Chapter: Executive Committee Meeting
DESCRIPTION:
URL:https://www.pasr.org/calendar/lebanon-chapter-executive-committee-meeting-7/
CATEGORIES:Lebanon County
ORGANIZER;CN="Cathy Wieland":MAILTO:cathywsix@gmail.com
END:VEVENT
BEGIN:VEVENT
DTSTART;VALUE=DATE:20251112
DTEND;VALUE=DATE:20251114
DTSTAMP:20260421T124347
CREATED:20241011T141051Z
LAST-MODIFIED:20241011T141051Z
UID:16057-1762923600-1763009999@www.pasr.org
SUMMARY:RECREO: Cumberland Chapter: Hell’s Kitchen on Broadway\, NYC
DESCRIPTION:
URL:https://www.pasr.org/calendar/recreo-cumberland-chapter-hells-kitchen-on-broadway-nyc/
CATEGORIES:Cumberland County,Recreation (RECREO)
ORGANIZER;CN="Richard Frederick":MAILTO:CCCRecreo@yahoo.com
END:VEVENT
BEGIN:VEVENT
DTSTART;VALUE=DATE:20251112
DTEND;VALUE=DATE:20251114
DTSTAMP:20260421T124347
CREATED:20250109T163250Z
LAST-MODIFIED:20250109T163250Z
UID:16541-1762923600-1763009999@www.pasr.org
SUMMARY:Franklin Chapter: Executive Committee Meeting
DESCRIPTION:
URL:https://www.pasr.org/calendar/franklin-chapter-executive-committee-meeting-3/
LOCATION:Trinity Lutheran Church
CATEGORIES:Franklin County
ORGANIZER;CN="Janet Zeger":MAILTO:jdzeger1@gmail.com
END:VEVENT
BEGIN:VEVENT
DTSTART;TZID=America/New_York:20251118T093000
DTEND;TZID=America/New_York:20251118T170000
DTSTAMP:20260421T124347
CREATED:20250310T144816Z
LAST-MODIFIED:20250310T150237Z
UID:16916-1763458200-1763485200@www.pasr.org
SUMMARY:RECREO: York Chapter: Perfect Harmony Christmas at Paradise Station
DESCRIPTION:RSVP September 15\, 2025
URL:https://www.pasr.org/calendar/recreo-york-chapter-perfect-harmony-christmas-at-paradise-station/
CATEGORIES:Recreation (RECREO),York County Chapter
ORGANIZER;CN="Joy Shoffner":MAILTO:ycpasrjoy@gmail.com
END:VEVENT
BEGIN:VEVENT
DTSTART;VALUE=DATE:20251204
DTEND;VALUE=DATE:20251206
DTSTAMP:20260421T124347
CREATED:20241003T140623Z
LAST-MODIFIED:20241003T140623Z
UID:15987-1764824400-1764910799@www.pasr.org
SUMMARY:Adams Chapter: Christmas Luncheon
DESCRIPTION:Location: Inn 94
URL:https://www.pasr.org/calendar/adams-chapter-christmas-luncheon-2/
CATEGORIES:Adams County Chapter
ORGANIZER;CN="Diane Motter":MAILTO:paris3@comcast.net
END:VEVENT
BEGIN:VEVENT
DTSTART;VALUE=DATE:20251204
DTEND;VALUE=DATE:20251206
DTSTAMP:20260421T124347
CREATED:20250318T124715Z
LAST-MODIFIED:20250318T124715Z
UID:16959-1764824400-1764910799@www.pasr.org
SUMMARY:Lebanon Chapter: General Membership Meeting
DESCRIPTION:
URL:https://www.pasr.org/calendar/lebanon-chapter-general-membership-meeting-7/
CATEGORIES:Lebanon County
ORGANIZER;CN="Cathy Wieland":MAILTO:cathywsix@gmail.com
END:VEVENT
BEGIN:VEVENT
DTSTART;VALUE=DATE:20251209
DTEND;VALUE=DATE:20251211
DTSTAMP:20260421T124347
CREATED:20241011T143138Z
LAST-MODIFIED:20241011T143138Z
UID:16076-1765256400-1765342799@www.pasr.org
SUMMARY:Cumberland Chapter: Newsletter Folding
DESCRIPTION:Board members only
URL:https://www.pasr.org/calendar/cumberland-chapter-newsletter-folding-3/
CATEGORIES:Cumberland County
END:VEVENT
BEGIN:VEVENT
DTSTART;VALUE=DATE:20251211
DTEND;VALUE=DATE:20251213
DTSTAMP:20260421T124347
CREATED:20250110T170001Z
LAST-MODIFIED:20250110T170001Z
UID:16560-1765429200-1765515599@www.pasr.org
SUMMARY:Juniata Chapter: Christmas Brunch- Carol sing
DESCRIPTION:
URL:https://www.pasr.org/calendar/juniata-chapter-christmas-brunch-carol-sing/
LOCATION:Messiah Lutheran Church
CATEGORIES:Juniata County
ORGANIZER;CN="Samuel Leister":MAILTO:sleister@gmail.com
END:VEVENT
BEGIN:VEVENT
DTSTART;VALUE=DATE:20251230
DTEND;VALUE=DATE:20260104
DTSTAMP:20260421T124347
CREATED:20241011T141714Z
LAST-MODIFIED:20241011T141714Z
UID:16058-1767070800-1767416399@www.pasr.org
SUMMARY:RECREO: Cumberland Chapter: New Year’s Extravaganza at Myrtle Beach\, SC
DESCRIPTION:
URL:https://www.pasr.org/calendar/recreo-cumberland-chapter-new-years-extravaganza-at-myrtle-beach-sc/
CATEGORIES:Cumberland County,Recreation (RECREO)
ORGANIZER;CN="Richard Frederick":MAILTO:CCCRecreo@yahoo.com
END:VEVENT
END:VCALENDAR