BEGIN:VCALENDAR
VERSION:2.0
PRODID:-//Pennsylvania Association of School Retirees - ECPv6.15.20//NONSGML v1.0//EN
CALSCALE:GREGORIAN
METHOD:PUBLISH
X-WR-CALNAME:Pennsylvania Association of School Retirees
X-ORIGINAL-URL:https://www.pasr.org
X-WR-CALDESC:Events for Pennsylvania Association of School Retirees
REFRESH-INTERVAL;VALUE=DURATION:PT1H
X-Robots-Tag:noindex
X-PUBLISHED-TTL:PT1H
BEGIN:VTIMEZONE
TZID:America/New_York
BEGIN:DAYLIGHT
TZOFFSETFROM:-0500
TZOFFSETTO:-0400
TZNAME:EDT
DTSTART:20250309T070000
END:DAYLIGHT
BEGIN:STANDARD
TZOFFSETFROM:-0400
TZOFFSETTO:-0500
TZNAME:EST
DTSTART:20251102T060000
END:STANDARD
BEGIN:DAYLIGHT
TZOFFSETFROM:-0500
TZOFFSETTO:-0400
TZNAME:EDT
DTSTART:20260308T070000
END:DAYLIGHT
BEGIN:STANDARD
TZOFFSETFROM:-0400
TZOFFSETTO:-0500
TZNAME:EST
DTSTART:20261101T060000
END:STANDARD
BEGIN:DAYLIGHT
TZOFFSETFROM:-0500
TZOFFSETTO:-0400
TZNAME:EDT
DTSTART:20270314T070000
END:DAYLIGHT
BEGIN:STANDARD
TZOFFSETFROM:-0400
TZOFFSETTO:-0500
TZNAME:EST
DTSTART:20271107T060000
END:STANDARD
END:VTIMEZONE
BEGIN:VEVENT
DTSTART;VALUE=DATE:20260108
DTEND;VALUE=DATE:20260110
DTSTAMP:20260420T183542
CREATED:20251030T144957Z
LAST-MODIFIED:20251203T133934Z
UID:17798-1767848400-1767934799@www.pasr.org
SUMMARY:Lehigh Chapter: Allentown Ecumenical Food Bank
DESCRIPTION:
URL:https://www.pasr.org/calendar/lehigh-chapter-volunteer-opportunity/
LOCATION:Allentown Ecumenical Food Bank\, Allentown\, PA\, United States
CATEGORIES:Volunteer Opportunities,Lehigh Chapter
ORGANIZER;CN="Daisy Pearson":MAILTO:epearson@ptd.net
END:VEVENT
BEGIN:VEVENT
DTSTART;TZID=America/New_York:20260113T113000
DTEND;TZID=America/New_York:20260113T113000
DTSTAMP:20260420T183542
CREATED:20251210T180204Z
LAST-MODIFIED:20251210T180204Z
UID:18084-1768303800-1768303800@www.pasr.org
SUMMARY:Carbon Chapter: Regular Lunch Meeting
DESCRIPTION:At Two Kings Italian and Mexican Restaurant\, rte 443\, Lehighton\, PA\, 18235
URL:https://www.pasr.org/calendar/carbon-chapter-regular-lunch-meeting/
CATEGORIES:Carbon Chapter
ORGANIZER;CN="Gloria Bowman":MAILTO:bowman2@ptd.net
END:VEVENT
BEGIN:VEVENT
DTSTART;VALUE=DATE:20260121
DTEND;VALUE=DATE:20260123
DTSTAMP:20260420T183542
CREATED:20251030T150451Z
LAST-MODIFIED:20251106T170936Z
UID:17823-1768971600-1769057999@www.pasr.org
SUMMARY:RECREO: Lehigh Chapter: Back to the Arcade
DESCRIPTION:
URL:https://www.pasr.org/calendar/lehigh-chapter-back-to-the-arcade/
CATEGORIES:Recreation (RECREO),Lehigh Chapter
ORGANIZER;CN="Carol Rieder":MAILTO:crjingabug@gmail.com
END:VEVENT
END:VCALENDAR