BEGIN:VCALENDAR
VERSION:2.0
PRODID:-//Pennsylvania Association of School Retirees - ECPv6.15.20//NONSGML v1.0//EN
CALSCALE:GREGORIAN
METHOD:PUBLISH
X-ORIGINAL-URL:https://www.pasr.org
X-WR-CALDESC:Events for Pennsylvania Association of School Retirees
REFRESH-INTERVAL;VALUE=DURATION:PT1H
X-Robots-Tag:noindex
X-PUBLISHED-TTL:PT1H
BEGIN:VTIMEZONE
TZID:America/New_York
BEGIN:DAYLIGHT
TZOFFSETFROM:-0500
TZOFFSETTO:-0400
TZNAME:EDT
DTSTART:20240310T070000
END:DAYLIGHT
BEGIN:STANDARD
TZOFFSETFROM:-0400
TZOFFSETTO:-0500
TZNAME:EST
DTSTART:20241103T060000
END:STANDARD
BEGIN:DAYLIGHT
TZOFFSETFROM:-0500
TZOFFSETTO:-0400
TZNAME:EDT
DTSTART:20250309T070000
END:DAYLIGHT
BEGIN:STANDARD
TZOFFSETFROM:-0400
TZOFFSETTO:-0500
TZNAME:EST
DTSTART:20251102T060000
END:STANDARD
BEGIN:DAYLIGHT
TZOFFSETFROM:-0500
TZOFFSETTO:-0400
TZNAME:EDT
DTSTART:20260308T070000
END:DAYLIGHT
BEGIN:STANDARD
TZOFFSETFROM:-0400
TZOFFSETTO:-0500
TZNAME:EST
DTSTART:20261101T060000
END:STANDARD
END:VTIMEZONE
BEGIN:VEVENT
DTSTART;VALUE=DATE:20250521
DTEND;VALUE=DATE:20250524
DTSTAMP:20260420T142538
CREATED:20241206T165817Z
LAST-MODIFIED:20241206T165817Z
UID:16418-1747803600-1747976399@www.pasr.org
SUMMARY:RECREO: Greene Chapter: PA Amishlands Trip - Noah at Sight and Sound
DESCRIPTION:
URL:https://www.pasr.org/calendar/recreo-greene-chapter-pa-amishlands-trip-noah-at-sight-and-sound/
CATEGORIES:Greene County,Recreation (RECREO)
ORGANIZER;CN="Nancy Fox":MAILTO:dandnfox@gmail.com
END:VEVENT
END:VCALENDAR