BEGIN:VCALENDAR
VERSION:2.0
PRODID:-//Pennsylvania Association of School Retirees - ECPv6.15.20//NONSGML v1.0//EN
CALSCALE:GREGORIAN
METHOD:PUBLISH
X-WR-CALNAME:Pennsylvania Association of School Retirees
X-ORIGINAL-URL:https://www.pasr.org
X-WR-CALDESC:Events for Pennsylvania Association of School Retirees
REFRESH-INTERVAL;VALUE=DURATION:PT1H
X-Robots-Tag:noindex
X-PUBLISHED-TTL:PT1H
BEGIN:VTIMEZONE
TZID:America/New_York
BEGIN:DAYLIGHT
TZOFFSETFROM:-0500
TZOFFSETTO:-0400
TZNAME:EDT
DTSTART:20240310T070000
END:DAYLIGHT
BEGIN:STANDARD
TZOFFSETFROM:-0400
TZOFFSETTO:-0500
TZNAME:EST
DTSTART:20241103T060000
END:STANDARD
BEGIN:DAYLIGHT
TZOFFSETFROM:-0500
TZOFFSETTO:-0400
TZNAME:EDT
DTSTART:20250309T070000
END:DAYLIGHT
BEGIN:STANDARD
TZOFFSETFROM:-0400
TZOFFSETTO:-0500
TZNAME:EST
DTSTART:20251102T060000
END:STANDARD
BEGIN:DAYLIGHT
TZOFFSETFROM:-0500
TZOFFSETTO:-0400
TZNAME:EDT
DTSTART:20260308T070000
END:DAYLIGHT
BEGIN:STANDARD
TZOFFSETFROM:-0400
TZOFFSETTO:-0500
TZNAME:EST
DTSTART:20261101T060000
END:STANDARD
END:VTIMEZONE
BEGIN:VEVENT
DTSTART;VALUE=DATE:20250610
DTEND;VALUE=DATE:20250612
DTSTAMP:20260420T201234
CREATED:20250107T160012Z
LAST-MODIFIED:20250107T160012Z
UID:16470-1749531600-1749617999@www.pasr.org
SUMMARY:RECREO: Lehigh Chapter: Iron Pigs Baseball
DESCRIPTION:
URL:https://www.pasr.org/calendar/recreo-lehigh-chapter-iron-pigs-baseball/
CATEGORIES:Recreation (RECREO),Lehigh Chapter
ORGANIZER;CN="Carol Rieder":MAILTO:crjingabug@gmail.com
END:VEVENT
BEGIN:VEVENT
DTSTART;VALUE=DATE:20250611
DTEND;VALUE=DATE:20250613
DTSTAMP:20260420T201234
CREATED:20241011T140915Z
LAST-MODIFIED:20241011T140915Z
UID:16055-1749618000-1749704399@www.pasr.org
SUMMARY:RECREO: Cumberland Chapter: Annapolis Cravings\, Maryland
DESCRIPTION:
URL:https://www.pasr.org/calendar/recreo-cumberland-chapter-annapolis-cravings-maryland/
CATEGORIES:Cumberland County,Recreation (RECREO)
ORGANIZER;CN="Richard Frederick":MAILTO:CCCRecreo@yahoo.com
END:VEVENT
BEGIN:VEVENT
DTSTART;TZID=America/New_York:20250611T123000
DTEND;TZID=America/New_York:20250611T123000
DTSTAMP:20260420T201234
CREATED:20250324T132544Z
LAST-MODIFIED:20250324T132544Z
UID:16991-1749645000-1749645000@www.pasr.org
SUMMARY:RECREO Pittsburg Chapter: Pirate Baseball Game
DESCRIPTION:
URL:https://www.pasr.org/calendar/recreo-pittsburg-chapter-pirate-baseball-game/
CATEGORIES:Pittsburgh,Recreation (RECREO)
ORGANIZER;CN="Debra Rucki":MAILTO:dsrucki@verizon.net
END:VEVENT
BEGIN:VEVENT
DTSTART;TZID=America/New_York:20250611T133000
DTEND;TZID=America/New_York:20250611T133000
DTSTAMP:20260420T201234
CREATED:20240924T164350Z
LAST-MODIFIED:20240924T164350Z
UID:15945-1749648600-1749648600@www.pasr.org
SUMMARY:RECREO: Philadelphia Chapter: The WIZ
DESCRIPTION:Location: Academy of Music
URL:https://www.pasr.org/calendar/recreo-philadelphia-chapter-the-wiz/
CATEGORIES:Recreation (RECREO),Region 11 - Philadelphia
ORGANIZER;CN="Donna Malkowski":MAILTO:info@ppsrea.org
END:VEVENT
BEGIN:VEVENT
DTSTART;VALUE=DATE:20250619
DTEND;VALUE=DATE:20250621
DTSTAMP:20260420T201234
CREATED:20241112T201555Z
LAST-MODIFIED:20241112T201555Z
UID:16274-1750309200-1750395599@www.pasr.org
SUMMARY:RECREO: York Chapter: Dutch Apple Dinner Theater – Queen & Ben Elton
DESCRIPTION:
URL:https://www.pasr.org/calendar/recreo-york-chapter-dutch-apple-dinner-theater-queen-ben-elton/
CATEGORIES:Recreation (RECREO),York County Chapter
ORGANIZER;CN="Joy Shoffner":MAILTO:ycpasrjoy@gmail.com
END:VEVENT
BEGIN:VEVENT
DTSTART;VALUE=DATE:20250621
DTEND;VALUE=DATE:20250623
DTSTAMP:20260420T201234
CREATED:20241206T165855Z
LAST-MODIFIED:20241209T150133Z
UID:16419-1750482000-1750568399@www.pasr.org
SUMMARY:RECREO: Greene Chapter: Pittsburgh CLO - Camelot at the Benedum
DESCRIPTION:
URL:https://www.pasr.org/calendar/recreo-greene-chapter-pittsburgh-clo-camelot-at-the-benedum/
CATEGORIES:Greene County,Recreation (RECREO)
ORGANIZER;CN="Lori Greene":MAILTO:lorigreene130@gmail.com
END:VEVENT
BEGIN:VEVENT
DTSTART;VALUE=DATE:20250626
DTEND;VALUE=DATE:20250628
DTSTAMP:20260420T201234
CREATED:20250225T144245Z
LAST-MODIFIED:20250225T144245Z
UID:16851-1750914000-1751000399@www.pasr.org
SUMMARY:RECREO: Bucks/Montgomery Chapter: Moravian Tile Works Tour
DESCRIPTION:
URL:https://www.pasr.org/calendar/recreo-bucks-montgomery-chapter-moravian-tile-works-tour/
CATEGORIES:Bucks/Montgomery County Chapter,Recreation (RECREO)
ORGANIZER;CN="Linda Majewski":MAILTO:majrl@msn.com
END:VEVENT
BEGIN:VEVENT
DTSTART;VALUE=DATE:20250626
DTEND;VALUE=DATE:20250630
DTSTAMP:20260420T201234
CREATED:20250205T194639Z
LAST-MODIFIED:20250205T194639Z
UID:16635-1750914000-1751173199@www.pasr.org
SUMMARY:RECREO: Northampton Chapter: Finger Lakes
DESCRIPTION:
URL:https://www.pasr.org/calendar/recreo-northampton-chapter-finger-lakes/
CATEGORIES:Recreation (RECREO),Northampton Chapter
ORGANIZER;CN="Norma Shriver":MAILTO:nshriver70@gmail.com
END:VEVENT
END:VCALENDAR